BEGIN:VCALENDAR
VERSION:2.0
PRODID:-//Visit Ashtabula - ECPv6.14.0//NONSGML v1.0//EN
CALSCALE:GREGORIAN
METHOD:PUBLISH
X-ORIGINAL-URL:https://visitashtabulacounty.com
X-WR-CALDESC:Events for Visit Ashtabula
REFRESH-INTERVAL;VALUE=DURATION:PT1H
X-Robots-Tag:noindex
X-PUBLISHED-TTL:PT1H
BEGIN:VTIMEZONE
TZID:America/New_York
BEGIN:DAYLIGHT
TZOFFSETFROM:-0500
TZOFFSETTO:-0400
TZNAME:EDT
DTSTART:20260308T070000
END:DAYLIGHT
BEGIN:STANDARD
TZOFFSETFROM:-0400
TZOFFSETTO:-0500
TZNAME:EST
DTSTART:20261101T060000
END:STANDARD
END:VTIMEZONE
BEGIN:VEVENT
DTSTART;TZID=America/New_York:20260502T173000
DTEND;TZID=America/New_York:20260502T203000
DTSTAMP:20260419T093413
CREATED:20260326T163740Z
LAST-MODIFIED:20260326T163740Z
UID:10016087-1777743000-1777753800@visitashtabulacounty.com
SUMMARY:Huffman Acoustic
DESCRIPTION:Joel and Kayla Huffman are a dynamic Country/Crossover duo based in Saybrook\, Ohio\, with deep roots in Central Alabama. Their musical journey took a meaningful turn in 2019 when they relocated to Ohio’s picturesque “Wine Country” along the shores of Lake Erie. Inspired by this new chapter\, they began writing heartfelt country and Christian-infused music while collaborating closely with their local worship team. \nImmersing themselves in the vibrant Grand River Valley music scene\, Joel and Kayla found joy in performing both contemporary and classic country songs. Their music serves as a bridge between tradition and faith\, blending uplifting new age elements with the soul of country music. Through their performances\, they not only share their passion but also create a space for connection\, testimony\, and inspiration within their community. \nWith every lyric and melody\, Joel and Kayla are committed to spreading faith\, love\, and unity. Their music is more than just an expression of their talents—it’s a reflection of their journey\, their mission\, and their devotion to touching lives through the power of song.
URL:https://visitashtabulacounty.com/event/huffman-acoustic-26/
LOCATION:The Haunted Winery @ Regal Vineyards\, 2678 County Line Rd\, Madison\, OH\, 44057\, United States
CATEGORIES:Live Music
ATTACH;FMTTYPE=image/jpeg:https://visitashtabulacounty.com/wp-content/uploads/2026/02/Huffman-Acoustic-2026.jpg
END:VEVENT
BEGIN:VEVENT
DTSTART;TZID=America/New_York:20260502T173000
DTEND;TZID=America/New_York:20260502T203000
DTSTAMP:20260419T093413
CREATED:20260402T191904Z
LAST-MODIFIED:20260413T154512Z
UID:10016308-1777743000-1777753800@visitashtabulacounty.com
SUMMARY:Alicia Swartz Music
DESCRIPTION:Feel good music while she keeps you on your toes!
URL:https://visitashtabulacounty.com/event/alicia-swartz-music/
LOCATION:Stable Winery\, 5961 State Route 7\, Andover\, OH\, 44003
CATEGORIES:Live Music
ATTACH;FMTTYPE=image/jpeg:https://visitashtabulacounty.com/wp-content/uploads/2026/01/Alcia-Swartz.jpg
END:VEVENT
BEGIN:VEVENT
DTSTART;TZID=America/New_York:20260502T180000
DTEND;TZID=America/New_York:20260502T210000
DTSTAMP:20260419T093413
CREATED:20260123T152306Z
LAST-MODIFIED:20260123T152306Z
UID:10014674-1777744800-1777755600@visitashtabulacounty.com
SUMMARY:Rob Covert
DESCRIPTION:Darkroom Brewing Co. knows the ’90s never go out of style—and Rob Covert delivers the nostalgia every time. Guests are invited to grab a flannel\, dust off the butterfly clips\, and enjoy these throwback nights of live music (which were definitely only a decade ago… not 35 years). 🎶🍺
URL:https://visitashtabulacounty.com/event/rob-covert-4/
LOCATION:Darkroom Brewing Co.\, 32 N. Broadway\, Geneva\, OH\, 44041
CATEGORIES:Dine and Drink,Live Music
ATTACH;FMTTYPE=image/png:https://visitashtabulacounty.com/wp-content/uploads/2025/04/image_aca5fd1a.png
END:VEVENT
BEGIN:VEVENT
DTSTART;TZID=America/New_York:20260502T183000
DTEND;TZID=America/New_York:20260502T213000
DTSTAMP:20260419T093413
CREATED:20260305T185633Z
LAST-MODIFIED:20260305T185633Z
UID:10015670-1777746600-1777757400@visitashtabulacounty.com
SUMMARY:Kevin Wilson Acoustic
DESCRIPTION:Former front man of the band Seven\, Kevin brings a high energy show performing rock\, pop\, alternative and original music. You definitely don’t want to miss this amazing rock star!
URL:https://visitashtabulacounty.com/event/kevin-wilson-acoustic-3/
LOCATION:Grand River Cellars\, 5750 S. Madison Rd\, Madison\, OH\, 44057\, United States
CATEGORIES:Live Music
ATTACH;FMTTYPE=image/jpeg:https://visitashtabulacounty.com/wp-content/uploads/2025/06/Kevin-Wilson.jpg
END:VEVENT
BEGIN:VEVENT
DTSTART;TZID=America/New_York:20260502T183000
DTEND;TZID=America/New_York:20260502T213000
DTSTAMP:20260419T093413
CREATED:20260305T203214Z
LAST-MODIFIED:20260305T203214Z
UID:10015629-1777746600-1777757400@visitashtabulacounty.com
SUMMARY:C4 at The Winery at Spring Hill
DESCRIPTION:C4 is a Retro Rock Band who performs with class and energy
URL:https://visitashtabulacounty.com/event/c4-at-the-winery-at-spring-hill/
LOCATION:The Winery At Spring Hill\, 6062 S. Ridge Rd. W.\, Geneva\, OH\, 44041\, United States
CATEGORIES:Live Music
ATTACH;FMTTYPE=image/jpeg:https://visitashtabulacounty.com/wp-content/uploads/2026/03/428600724_407932825093509_4834040331367924658_n.jpg
END:VEVENT
BEGIN:VEVENT
DTSTART;TZID=America/New_York:20260502T190000
DTEND;TZID=America/New_York:20260502T220000
DTSTAMP:20260419T093413
CREATED:20260401T154240Z
LAST-MODIFIED:20260401T154240Z
UID:10016269-1777748400-1777759200@visitashtabulacounty.com
SUMMARY:Rob Lundi
DESCRIPTION:Rob Lundi brings over 30 years of musical experience with his laid-back island vibe will make you feel like you’re at his show in Key West! Escape to the islands and join us for some amazing music!
URL:https://visitashtabulacounty.com/event/rob-lundi-9/
LOCATION:Corkscrew Taphouse Winery + Tasting Bar\, 1515 St. Rt. 534\, Harpersfield\, OHIO\, 44041
CATEGORIES:Live Music
ATTACH;FMTTYPE=image/webp:https://visitashtabulacounty.com/wp-content/uploads/2024/04/rob-lundi-2.webp
END:VEVENT
BEGIN:VEVENT
DTSTART;TZID=America/New_York:20260502T200000
DTEND;TZID=America/New_York:20260502T230000
DTSTAMP:20260419T093413
CREATED:20251217T172030Z
LAST-MODIFIED:20251217T172030Z
UID:10014272-1777752000-1777762800@visitashtabulacounty.com
SUMMARY:Never E Nuff
DESCRIPTION:Let’s get the 80’s party started for nothing but a good time!
URL:https://visitashtabulacounty.com/event/never-e-nuff/
LOCATION:Cove Niteclub\, 5326 Lake Rd. E.\, Geneva on the Lake\, OH\, 44041
CATEGORIES:Live Music
ATTACH;FMTTYPE=image/jpeg:https://visitashtabulacounty.com/wp-content/uploads/2024/05/B6F7C83F-14BE-4FB4-A115-E201C0EC1841.jpeg
END:VEVENT
BEGIN:VEVENT
DTSTART;TZID=America/New_York:20260502T200000
DTEND;TZID=America/New_York:20260502T230000
DTSTAMP:20260419T093413
CREATED:20251217T194920Z
LAST-MODIFIED:20251217T194920Z
UID:10014310-1777752000-1777762800@visitashtabulacounty.com
SUMMARY:Jump The Gun
DESCRIPTION:Don’t try to guess what they’re going to play next\, just get up and dance!
URL:https://visitashtabulacounty.com/event/jump-the-gun/
LOCATION:Sportsterz Bar & Grill\, 5422 Lake Rd E\, Geneva on the Lake\, OH\, 44041\, United States
CATEGORIES:Live Music
ATTACH;FMTTYPE=image/jpeg:https://visitashtabulacounty.com/wp-content/uploads/2025/12/jump-the-gun.jpg
END:VEVENT
BEGIN:VEVENT
DTSTART;TZID=America/New_York:20260502T200000
DTEND;TZID=America/New_York:20260503T020000
DTSTAMP:20260419T093413
CREATED:20260303T175343Z
LAST-MODIFIED:20260303T175343Z
UID:10015490-1777752000-1777773600@visitashtabulacounty.com
SUMMARY:The Hottest Dance Party
DESCRIPTION:The Hottest Dance Party on the Strip w/ DJ M@ every weekend. Don’t Miss Out!
URL:https://visitashtabulacounty.com/event/the-hottest-dance-party/2026-05-02/
LOCATION:Yankies Bar & Grill\, 5482 Lake Rd. E.\, Geneva on the Lake\, 44041
CATEGORIES:Live Music,Outdoors
ATTACH;FMTTYPE=image/jpeg:https://visitashtabulacounty.com/wp-content/uploads/2024/07/dj-m@.jpg
END:VEVENT
BEGIN:VEVENT
DTSTART;TZID=America/New_York:20260503T100000
DTEND;TZID=America/New_York:20260503T140000
DTSTAMP:20260419T093413
CREATED:20260324T175749Z
LAST-MODIFIED:20260324T175749Z
UID:10016043-1777802400-1777816800@visitashtabulacounty.com
SUMMARY:Mom's Morning Out
DESCRIPTION:Mom’s Morning out! Celebrate Mother’s Day at The Petal Post! They are partnering with Cattle & Caffeine\, and MJ Snapshot photography to bring you beautiful bouquets\, delicious drinks and splendid snapshots. The tulips will be self-serve and $1 a stem. Some picking supplies are provided in the stand if needed. They accept cash and Venmo. Photography mini sessions will be $100\, and pre-registration is preferred. Some walk ups may be accepted! \nCome on out from 10am – 2pm and make memories with mom! \nIn need of a gift for a mom in your life? Just pop on out to the patch for a coffee and bouquet!
URL:https://visitashtabulacounty.com/event/moms-morning-out/
LOCATION:The Petal Post\, 2152 Didgeville Rd.\, Jefferson\, OH
CATEGORIES:Family,Outdoors
ATTACH;FMTTYPE=image/jpeg:https://visitashtabulacounty.com/wp-content/uploads/2026/03/tulip-petal-post.jpg
END:VEVENT
BEGIN:VEVENT
DTSTART;TZID=America/New_York:20260503T100000
DTEND;TZID=America/New_York:20260503T140000
DTSTAMP:20260419T093413
CREATED:20260406T151446Z
LAST-MODIFIED:20260406T151446Z
UID:10016313-1777802400-1777816800@visitashtabulacounty.com
SUMMARY:Sip\, Spa\, & Celebrate Brunch
DESCRIPTION:Our Sip\, Spa & Celebrate Brunch is the perfect way to connect\, relax\, and make memories. Start your day with your choice of a 60-minute massage or a customized spa facial\, then unwind in our outdoor cedar sauna. Afterward\, enjoy a delicious champagne brunch prepared by our chef at Crosswinds Grille.\nThis exclusive experience is available Sunday\, May 3rd & Sunday\, May 17th from 10:00 AM – 2:30 PM\, priced at $225 per person + tax.\nSpaces are limited—reserve your spot today and create a memorable day of relaxation and celebration with the women you love
URL:https://visitashtabulacounty.com/event/sip-spa-celebrate-brunch/
LOCATION:Crosswinds at Lakehouse Inn Retreat\, 5653 Lake Rd. E.\, Geneva On The Lake\, OH\, 44041
CATEGORIES:Dine and Drink
ATTACH;FMTTYPE=image/jpeg:https://visitashtabulacounty.com/wp-content/uploads/2026/04/sip-spa.jpg
END:VEVENT
BEGIN:VEVENT
DTSTART;TZID=America/New_York:20260503T130000
DTEND;TZID=America/New_York:20260503T160000
DTSTAMP:20260419T093413
CREATED:20260129T181847Z
LAST-MODIFIED:20260129T181847Z
UID:10014930-1777813200-1777824000@visitashtabulacounty.com
SUMMARY:Art Michaud
DESCRIPTION:A versatile and seasoned solo performer\, Art brings the hits to life with classic rock from the ’60s\, ’70s\, ’80s\, ’90s\, and 2000s\, along with country classics and new country favorites. His setlists feature music from James Taylor\, Jimmy Buffett\, Johnny Cash\, Tom Petty\, Tracy Lawrence\, Neil Young\, Bob Dylan\, The Beatles\, and more. \nWith a repertoire of over 1\,500 songs and the ability to travel nationwide—up to 3\,000 miles for bookings—Art Michaud is a dynamic entertainer ready for any occasion.
URL:https://visitashtabulacounty.com/event/art-michaud-12/
LOCATION:Day Dream Farm Winery\, 5703 St. Rt. 166\, Rock Creek\, Ohio\, 44084
CATEGORIES:Live Music
ATTACH;FMTTYPE=image/jpeg:https://visitashtabulacounty.com/wp-content/uploads/2025/12/Art-Mic.jpg
END:VEVENT
BEGIN:VEVENT
DTSTART;TZID=America/New_York:20260503T130000
DTEND;TZID=America/New_York:20260503T160000
DTSTAMP:20260419T093413
CREATED:20260306T164825Z
LAST-MODIFIED:20260413T154051Z
UID:10015750-1777813200-1777824000@visitashtabulacounty.com
SUMMARY:Thomas Reed Smith
DESCRIPTION:Thomas Reed Smith sings energetic acoustic rock music\, drawing inspiration from the north shore of Ohio. His songs often tell stories about people he knows or has heard about\, reflecting the local culture and experiences. He incorporates a mix of popular cover songs and his own original music into his live performances.
URL:https://visitashtabulacounty.com/event/thomas-reed-smith-3/
LOCATION:Day Dream Farm Winery\, 5703 St. Rt. 166\, Rock Creek\, Ohio\, 44084
CATEGORIES:Live Music
ATTACH;FMTTYPE=image/jpeg:https://visitashtabulacounty.com/wp-content/uploads/2024/06/thomas-reed-s.jpg
END:VEVENT
BEGIN:VEVENT
DTSTART;TZID=America/New_York:20260503T133000
DTEND;TZID=America/New_York:20260503T163000
DTSTAMP:20260419T093413
CREATED:20260326T164212Z
LAST-MODIFIED:20260326T164212Z
UID:10016088-1777815000-1777825800@visitashtabulacounty.com
SUMMARY:Mike Barker
DESCRIPTION:Wine & Dine while listening to Mike Barker
URL:https://visitashtabulacounty.com/event/mike-barker-3/
LOCATION:The Haunted Winery @ Regal Vineyards\, 2678 County Line Rd\, Madison\, OH\, 44057\, United States
CATEGORIES:Live Music
ATTACH;FMTTYPE=image/jpeg:https://visitashtabulacounty.com/wp-content/uploads/2024/10/mike-barker.jpg
END:VEVENT
BEGIN:VEVENT
DTSTART;TZID=America/New_York:20260503T140000
DTEND;TZID=America/New_York:20260503T170000
DTSTAMP:20260419T093413
CREATED:20260204T195809Z
LAST-MODIFIED:20260413T153514Z
UID:10015194-1777816800-1777827600@visitashtabulacounty.com
SUMMARY:Chuck Ditri
DESCRIPTION:Chuck Ditri brings serious talent and great energy.
URL:https://visitashtabulacounty.com/event/chuck-ditri-2/
LOCATION:Laurello Vineyards\, 4573 E OH-307\, Harpersfield\, OH\, 44041\, United States
CATEGORIES:Live Music
ATTACH;FMTTYPE=image/jpeg:https://visitashtabulacounty.com/wp-content/uploads/2024/07/Chuck-Ditri.jpg
END:VEVENT
BEGIN:VEVENT
DTSTART;TZID=America/New_York:20260503T140000
DTEND;TZID=America/New_York:20260503T170000
DTSTAMP:20260419T093413
CREATED:20260304T182117Z
LAST-MODIFIED:20260326T162555Z
UID:10015553-1777816800-1777827600@visitashtabulacounty.com
SUMMARY:Susan Hagan
DESCRIPTION:Singer/Songwriter Susan Hagan. There’s sure to be lots of love songs and a protest song or two!
URL:https://visitashtabulacounty.com/event/susan-hagan/
LOCATION:Hundley Cellars\, 6451 St. Rt. 307\, Geneva\, OH\, 44041\, United States
CATEGORIES:Live Music
ATTACH;FMTTYPE=image/jpeg:https://visitashtabulacounty.com/wp-content/uploads/2024/10/susan-hagan.jpg
END:VEVENT
BEGIN:VEVENT
DTSTART;TZID=America/New_York:20260503T140000
DTEND;TZID=America/New_York:20260503T173000
DTSTAMP:20260419T093413
CREATED:20260226T174911Z
LAST-MODIFIED:20260226T174911Z
UID:10015432-1777816800-1777829400@visitashtabulacounty.com
SUMMARY:Nia Covington
DESCRIPTION:Nia Covington sings a timeless sound that blends jazz standards\, blues favorites\, and pop songs. Her music is characterized by a fresh approach to vocals\, capturing the style and charisma of her selections\, and she often performs at venues like wineries and country clubs.
URL:https://visitashtabulacounty.com/event/nia-covington-4/
LOCATION:Ferrante Winery & Ristorante\, 5585 St. Rt. 307\, Geneva\, OH\, 44041
CATEGORIES:Live Music
ATTACH;FMTTYPE=image/jpeg:https://visitashtabulacounty.com/wp-content/uploads/2024/04/Nia-Covington.jpg
END:VEVENT
BEGIN:VEVENT
DTSTART;TZID=America/New_York:20260503T140000
DTEND;TZID=America/New_York:20260503T180000
DTSTAMP:20260419T093413
CREATED:20251216T182023Z
LAST-MODIFIED:20251216T182023Z
UID:10014230-1777816800-1777831200@visitashtabulacounty.com
SUMMARY:Sound & Vision
DESCRIPTION:Sound and Vision are crowd favorites every time they play! Come on out and give this duo a listen!
URL:https://visitashtabulacounty.com/event/sound-vision-3/
LOCATION:Rosabella Winery\, 3951 St Rt. 307\, Austinburg\, Ohio\, 44010
CATEGORIES:Dine and Drink,Live Music
ATTACH;FMTTYPE=image/jpeg:https://visitashtabulacounty.com/wp-content/uploads/2024/10/sound-and-vision-1.jpg
END:VEVENT
BEGIN:VEVENT
DTSTART;TZID=America/New_York:20260503T140000
DTEND;TZID=America/New_York:20260503T180000
DTSTAMP:20260419T093413
CREATED:20260121T193934Z
LAST-MODIFIED:20260121T193934Z
UID:10014611-1777816800-1777831200@visitashtabulacounty.com
SUMMARY:The Two Kings
DESCRIPTION:The Two Kings duo specializes in easy listening music\, creating a warm and sophisticated ambiance perfect for any venue. They cater to a wide variety of occasions and events\, always aiming to please their audience with a polished\, professional performance.
URL:https://visitashtabulacounty.com/event/the-two-kings-3/
LOCATION:Old Firehouse Winery\, 5499 Lake Rd. E.\, Geneva on the Lake\, OH\, 44041\, United States
CATEGORIES:Live Music
ATTACH;FMTTYPE=image/jpeg:https://visitashtabulacounty.com/wp-content/uploads/2024/04/2-kings.jpg
END:VEVENT
BEGIN:VEVENT
DTSTART;TZID=America/New_York:20260503T143000
DTEND;TZID=America/New_York:20260503T173000
DTSTAMP:20260419T093413
CREATED:20260306T165155Z
LAST-MODIFIED:20260306T165155Z
UID:10015751-1777818600-1777829400@visitashtabulacounty.com
SUMMARY:Jimmy Mrozek
DESCRIPTION:Jimmy Mrozek is a singer-songwriter born and raised just outside of Cleveland\, Ohio. From performances on live TV to small intimate shows\, often times with his Dear Jimmy Band\, he has played on many stages to diverse crowds. Jimmy blends his “laid back” style and “unique voice” to produce songs that are heartfelt and charming. His shows mix original compositions with lots of cover songs by artists such as John Mayer\, Jack Johnson\, Coldplay\, Jason Mraz and Ed Sheeran (among others)
URL:https://visitashtabulacounty.com/event/jimmy-mrozek-8/
LOCATION:Debonne Vineyards\, 7840 Doty Rd\, Madison\, OH\, 44057\, United States
CATEGORIES:Live Music
ATTACH;FMTTYPE=image/jpeg:https://visitashtabulacounty.com/wp-content/uploads/2024/07/jimmy.jpg
END:VEVENT
BEGIN:VEVENT
DTSTART;TZID=America/New_York:20260503T150000
DTEND;TZID=America/New_York:20260503T170000
DTSTAMP:20260419T093413
CREATED:20251217T200721Z
LAST-MODIFIED:20251217T200721Z
UID:10014311-1777820400-1777827600@visitashtabulacounty.com
SUMMARY:Right Turn Clyde
DESCRIPTION:Real .. Good .. Music\nThey Will Rock You
URL:https://visitashtabulacounty.com/event/right-turn-clyde/
LOCATION:Sportsterz Bar & Grill\, 5422 Lake Rd E\, Geneva on the Lake\, OH\, 44041\, United States
CATEGORIES:Live Music
ATTACH;FMTTYPE=image/jpeg:https://visitashtabulacounty.com/wp-content/uploads/2024/07/3C753334-F664-4BEF-98A3-E6AE460C15C6.jpeg
END:VEVENT
BEGIN:VEVENT
DTSTART;TZID=America/New_York:20260503T160000
DTEND;TZID=America/New_York:20260503T190000
DTSTAMP:20260419T093413
CREATED:20260212T180004Z
LAST-MODIFIED:20260305T190203Z
UID:10015303-1777824000-1777834800@visitashtabulacounty.com
SUMMARY:Mark Morris
DESCRIPTION:THE BOSS at Morrsound and lighting productions\n\n\nHe is a professional working musician and have been performing at the finest establishments in the tri-state area. 
URL:https://visitashtabulacounty.com/event/mark-morris-2/
LOCATION:Grand River Cellars\, 5750 S. Madison Rd\, Madison\, OH\, 44057\, United States
CATEGORIES:Live Music
ATTACH;FMTTYPE=image/jpeg:https://visitashtabulacounty.com/wp-content/uploads/2025/07/Mark-Morris.jpg
END:VEVENT
BEGIN:VEVENT
DTSTART;TZID=America/New_York:20260504T180000
DTEND;TZID=America/New_York:20260504T210000
DTSTAMP:20260419T093413
CREATED:20260123T152247Z
LAST-MODIFIED:20260413T194158Z
UID:10014673-1777917600-1777928400@visitashtabulacounty.com
SUMMARY:Rob Covert
DESCRIPTION:Darkroom Brewing Co. knows the ’90s never go out of style—and Rob Covert delivers the nostalgia every time. Guests are invited to grab a flannel\, dust off the butterfly clips\, and enjoy these throwback nights of live music (which were definitely only a decade ago… not 35 years). 🎶🍺
URL:https://visitashtabulacounty.com/event/rob-covert-3/
LOCATION:Darkroom Brewing Co.\, 32 N. Broadway\, Geneva\, OH\, 44041
CATEGORIES:Dine and Drink,Live Music
ATTACH;FMTTYPE=image/png:https://visitashtabulacounty.com/wp-content/uploads/2025/04/image_aca5fd1a.png
END:VEVENT
BEGIN:VEVENT
DTSTART;TZID=America/New_York:20260505T180000
DTEND;TZID=America/New_York:20260505T200000
DTSTAMP:20260419T093413
CREATED:20260123T143004Z
LAST-MODIFIED:20260123T143004Z
UID:10014649-1778004000-1778011200@visitashtabulacounty.com
SUMMARY:We've Got The Runs Brewery Running Club
DESCRIPTION:Darkroom Brewing Co.’s Running Club continues on the first Tuesday of each month in 2026. Participants are invited to bring their running shoes and meet at Darkroom before 6:00 PM. \n\n\nMultiple distance options available \n\n\nAll fitness levels welcome \n\n\n$5 beers for participants \n\n\nRun\, walk\, or move at your own pace
URL:https://visitashtabulacounty.com/event/weve-got-the-runs-brewery-running-club-4/
LOCATION:Darkroom Brewing Co.\, 32 N. Broadway\, Geneva\, OH\, 44041
CATEGORIES:Outdoors
ATTACH;FMTTYPE=image/jpeg:https://visitashtabulacounty.com/wp-content/uploads/2026/01/dark_room_square_800_nocrop.jpg
END:VEVENT
BEGIN:VEVENT
DTSTART;TZID=America/New_York:20260506T183000
DTEND;TZID=America/New_York:20260506T210000
DTSTAMP:20260419T093413
CREATED:20260306T190159Z
LAST-MODIFIED:20260306T190159Z
UID:10015776-1778092200-1778101200@visitashtabulacounty.com
SUMMARY:Brian Alan Hager Band
DESCRIPTION: His set will feature pop and alternative rock covers\, along with original songs\, all delivered in a bluesy\, jazzy style. Expect unique takes on well-known favorites with plenty of guitar improvisation throughout the night.
URL:https://visitashtabulacounty.com/event/brian-alan-hager-band-3/
LOCATION:Debonne Vineyards\, 7840 Doty Rd\, Madison\, OH\, 44057\, United States
CATEGORIES:Dine and Drink,Live Music
ATTACH;FMTTYPE=image/jpeg:https://visitashtabulacounty.com/wp-content/uploads/2025/06/brian-alan-hager-band.jpg
END:VEVENT
BEGIN:VEVENT
DTSTART;TZID=America/New_York:20260506T190000
DTEND;TZID=America/New_York:20260506T220000
DTSTAMP:20260419T093413
CREATED:20260325T160202Z
LAST-MODIFIED:20260325T160202Z
UID:10016056-1778094000-1778104800@visitashtabulacounty.com
SUMMARY:Karaoke w/ DJ Scott Drury
DESCRIPTION:
URL:https://visitashtabulacounty.com/event/karaoke-w-dj-scott-drury/2026-05-06/
LOCATION:Crowing Hen Saloon\, 4949 Golf Ave.\, Geneva on the Lake\, OH\, 44041\, United States
CATEGORIES:Live Music
ATTACH;FMTTYPE=image/jpeg:https://visitashtabulacounty.com/wp-content/uploads/2026/03/karaoke-scott.jpg
END:VEVENT
BEGIN:VEVENT
DTSTART;TZID=America/New_York:20260507T170000
DTEND;TZID=America/New_York:20260507T210000
DTSTAMP:20260419T093413
CREATED:20260129T171839Z
LAST-MODIFIED:20260129T171839Z
UID:10014916-1778173200-1778187600@visitashtabulacounty.com
SUMMARY:Bourbon Nights
DESCRIPTION:Starting in March\, guests are invited to kick off the first Thursday of every month with rich pours\, rotating bourbons\, and plenty of good company. It’s the perfect excuse to grab a friend\, settle in\, and let the week melt away—one sip at a time. Day Dream Farm Winery can’t wait to share a pour!
URL:https://visitashtabulacounty.com/event/bourbon-nights-3/
LOCATION:Day Dream Farm Winery\, 5703 St. Rt. 166\, Rock Creek\, Ohio\, 44084
CATEGORIES:Dine and Drink
ATTACH;FMTTYPE=image/jpeg:https://visitashtabulacounty.com/wp-content/uploads/2026/01/Bourbon-Night-DDF.jpg
END:VEVENT
BEGIN:VEVENT
DTSTART;TZID=America/New_York:20260507T180000
DTEND;TZID=America/New_York:20260507T200000
DTSTAMP:20260419T093413
CREATED:20260226T173914Z
LAST-MODIFIED:20260226T173914Z
UID:10015423-1778176800-1778184000@visitashtabulacounty.com
SUMMARY:Jesse Briggs
DESCRIPTION:Jesse Briggs is a contemporary singer-songwriter whose music blends melodic pop and indie influences. His sound is defined by smooth\, expressive vocals and an emphasis on emotional storytelling\, hallmarks of the singer-songwriter genre. Songs such as Serendipitous Dreams\, Midnight Melodies\, and Car Love highlight his mix of soft pop\, indie\, and acoustic elements\, pairing heartfelt lyrics with accessible\, memorable melodies.
URL:https://visitashtabulacounty.com/event/jesse-briggs/2026-05-07/
LOCATION:Grand River Cellars\, 5750 S. Madison Rd\, Madison\, OH\, 44057\, United States
CATEGORIES:Live Music
ATTACH;FMTTYPE=image/jpeg:https://visitashtabulacounty.com/wp-content/uploads/2025/01/jesse-briggs.jpg
END:VEVENT
BEGIN:VEVENT
DTSTART;TZID=America/New_York:20260507T190000
DTEND;TZID=America/New_York:20260507T230000
DTSTAMP:20260419T093413
CREATED:20260321T155932Z
LAST-MODIFIED:20260327T192340Z
UID:10016191-1778180400-1778194800@visitashtabulacounty.com
SUMMARY:Karaoke Thursdays
DESCRIPTION:Crowing Hen is hosting Karaoke Thursdays! Tom will be firing up the tunes and turning on the mics\, inviting guests to take the stage and serenade the crowd. The Crowing Hen loves its singers—karaoke kicks off at 7 PM! 🎤✨
URL:https://visitashtabulacounty.com/event/karaoke-fridays-2/2026-05-07/
LOCATION:Crowing Hen Saloon\, 4949 Golf Ave.\, Geneva on the Lake\, OH\, 44041\, United States
CATEGORIES:Dine and Drink
ATTACH;FMTTYPE=image/jpeg:https://visitashtabulacounty.com/wp-content/uploads/2026/03/karaoke-thursdays.jpg
END:VEVENT
BEGIN:VEVENT
DTSTART;TZID=America/New_York:20260508T110000
DTEND;TZID=America/New_York:20260508T160000
DTSTAMP:20260419T093413
CREATED:20260304T183708Z
LAST-MODIFIED:20260304T183708Z
UID:10015558-1778238000-1778256000@visitashtabulacounty.com
SUMMARY:Tarot & Astrology
DESCRIPTION:Get Confirmation and Direction All At Once with Astrologer Angie AgnoniGuidance just got Deep!Are you looking Manifest a New Career?New Home?A Big Move?Find out when the Planets are in Full Support!\n$50 1/2 HourCall Ahead or Walk-In440-536-4206
URL:https://visitashtabulacounty.com/event/tarot-astrology/
LOCATION:The Light Emporium\, 1489 Bridge St.\, Ashtabula\, OH\, 44004\, United States
CATEGORIES:Live Music
ATTACH;FMTTYPE=image/png:https://visitashtabulacounty.com/wp-content/uploads/2026/03/8pbz2ine.png
END:VEVENT
END:VCALENDAR