BEGIN:VCALENDAR
VERSION:2.0
PRODID:-//Visit Ashtabula - ECPv6.14.0//NONSGML v1.0//EN
CALSCALE:GREGORIAN
METHOD:PUBLISH
X-ORIGINAL-URL:https://visitashtabulacounty.com
X-WR-CALDESC:Events for Visit Ashtabula
REFRESH-INTERVAL;VALUE=DURATION:PT1H
X-Robots-Tag:noindex
X-PUBLISHED-TTL:PT1H
BEGIN:VTIMEZONE
TZID:America/New_York
BEGIN:DAYLIGHT
TZOFFSETFROM:-0500
TZOFFSETTO:-0400
TZNAME:EDT
DTSTART:20260308T070000
END:DAYLIGHT
BEGIN:STANDARD
TZOFFSETFROM:-0400
TZOFFSETTO:-0500
TZNAME:EST
DTSTART:20261101T060000
END:STANDARD
END:VTIMEZONE
BEGIN:VEVENT
DTSTART;TZID=America/New_York:20260428T190000
DTEND;TZID=America/New_York:20260428T203000
DTSTAMP:20260422T051637
CREATED:20260413T162935Z
LAST-MODIFIED:20260413T162935Z
UID:10016355-1777402800-1777408200@visitashtabulacounty.com
SUMMARY:Seraph Brass
DESCRIPTION:Lakeside Society for the Performing Arts is extremely pleased to present Seraph Brass performing at Lakeside Junior High School (Ashtabula\, Ohio) on Tuesday\, April 28 at 7:00 pm. Five exceptionally accomplished women musicians will perform together a magnificent program that will undoubtedly amaze\, inspire\, and entertain the audience. This program is presented free of admission charge\, with donations gratefully accepted thanks to generous patrons and event sponsor The Robert Morrison Foundation.
URL:https://visitashtabulacounty.com/event/seraph-brass/
LOCATION:Lakeside Junior High School\, 2300 Sanborn Rd.\, Ashtabula\, OH\, 44004\, United States
CATEGORIES:Live Music
ATTACH;FMTTYPE=image/jpeg:https://visitashtabulacounty.com/wp-content/uploads/2026/04/Seraph-Brass-graphic.jpg
END:VEVENT
END:VCALENDAR