BEGIN:VCALENDAR
VERSION:2.0
PRODID:-//Visit Ashtabula - ECPv6.14.0//NONSGML v1.0//EN
CALSCALE:GREGORIAN
METHOD:PUBLISH
X-WR-CALNAME:Visit Ashtabula
X-ORIGINAL-URL:https://visitashtabulacounty.com
X-WR-CALDESC:Events for Visit Ashtabula
REFRESH-INTERVAL;VALUE=DURATION:PT1H
X-Robots-Tag:noindex
X-PUBLISHED-TTL:PT1H
BEGIN:VTIMEZONE
TZID:America/New_York
BEGIN:DAYLIGHT
TZOFFSETFROM:-0500
TZOFFSETTO:-0400
TZNAME:EDT
DTSTART:20260308T070000
END:DAYLIGHT
BEGIN:STANDARD
TZOFFSETFROM:-0400
TZOFFSETTO:-0500
TZNAME:EST
DTSTART:20261101T060000
END:STANDARD
END:VTIMEZONE
BEGIN:VEVENT
DTSTART;TZID=America/New_York:20260424T173000
DTEND;TZID=America/New_York:20260424T203000
DTSTAMP:20260425T065121
CREATED:20260326T175616Z
LAST-MODIFIED:20260326T175616Z
UID:10016118-1777051800-1777062600@visitashtabulacounty.com
SUMMARY:Steven Ceremuga
DESCRIPTION:Cheers to sunshine\, fresh starts\, great wine\, music\, and company
URL:https://visitashtabulacounty.com/event/steven-ceremuga-2/
LOCATION:Stable Winery\, 5961 State Route 7\, Andover\, OH\, 44003
CATEGORIES:Live Music
ATTACH;FMTTYPE=image/jpeg:https://visitashtabulacounty.com/wp-content/uploads/2026/03/steve-ceremuga.jpg
END:VEVENT
BEGIN:VEVENT
DTSTART;TZID=America/New_York:20260418T173000
DTEND;TZID=America/New_York:20260418T203000
DTSTAMP:20260425T065121
CREATED:20260326T175601Z
LAST-MODIFIED:20260326T175601Z
UID:10016117-1776533400-1776544200@visitashtabulacounty.com
SUMMARY:Steven Ceremuga
DESCRIPTION:Cheers to sunshine\, fresh starts\, great wine\, music\, and company
URL:https://visitashtabulacounty.com/event/steven-ceremuga/
LOCATION:Stable Winery\, 5961 State Route 7\, Andover\, OH\, 44003
CATEGORIES:Live Music
ATTACH;FMTTYPE=image/jpeg:https://visitashtabulacounty.com/wp-content/uploads/2026/03/steve-ceremuga.jpg
END:VEVENT
BEGIN:VEVENT
DTSTART;TZID=America/New_York:20260404T173000
DTEND;TZID=America/New_York:20260404T203000
DTSTAMP:20260425T065121
CREATED:20260326T174652Z
LAST-MODIFIED:20260401T151624Z
UID:10016116-1775323800-1775334600@visitashtabulacounty.com
SUMMARY:Outside the Wall
DESCRIPTION:Get ready to rock because Outside the Wall — an incredible nod to the legendary Pink Floyd — is taking the stage and they are bringing the vibes!
URL:https://visitashtabulacounty.com/event/outside-the-wall/
LOCATION:Stable Winery\, 5961 State Route 7\, Andover\, OH\, 44003
CATEGORIES:Live Music
ATTACH;FMTTYPE=image/jpeg:https://visitashtabulacounty.com/wp-content/uploads/2024/10/outside-the-wall.jpg
END:VEVENT
BEGIN:VEVENT
DTSTART;TZID=America/New_York:20260417T173000
DTEND;TZID=America/New_York:20260417T203000
DTSTAMP:20260425T065121
CREATED:20260204T185621Z
LAST-MODIFIED:20260204T185621Z
UID:10015190-1776447000-1776457800@visitashtabulacounty.com
SUMMARY:Maria Petti
DESCRIPTION:Maria Petti is a full-time freelance musician\, born and raised in Northeast Ohio. She has had a passion for singing\, and music since a very young age. She is now an acoustic staple in the winery/bar scene in Northern Ohio\, having a repertoire of original songs\, and also a wide variety of music genres to play for her audience. \nMaria used to play bass and sing harmonies in the all original – indie rock band\, the mason district. her and band-mate\, tom tobias sometimes play as an acoustic duo at wineries\, bars & restaurants. \nMaria is interested in meeting people\, being creative\, building relationships & connections\, songwriting\, sharing her original music\, traveling\, being outdoors\, riding her bicycle\, playing pickleball\, and paddling around in her kayak in her free time.
URL:https://visitashtabulacounty.com/event/maria-petti-5/
LOCATION:Stable Winery\, 5961 State Route 7\, Andover\, OH\, 44003
CATEGORIES:Live Music
ATTACH;FMTTYPE=image/jpeg:https://visitashtabulacounty.com/wp-content/uploads/2025/02/maria-petti.jpg
END:VEVENT
BEGIN:VEVENT
DTSTART;TZID=America/New_York:20260327T173000
DTEND;TZID=America/New_York:20260327T203000
DTSTAMP:20260425T065121
CREATED:20260204T185558Z
LAST-MODIFIED:20260204T185558Z
UID:10015189-1774632600-1774643400@visitashtabulacounty.com
SUMMARY:Maria Petti
DESCRIPTION:Maria Petti is a full-time freelance musician\, born and raised in Northeast Ohio. She has had a passion for singing\, and music since a very young age. She is now an acoustic staple in the winery/bar scene in Northern Ohio\, having a repertoire of original songs\, and also a wide variety of music genres to play for her audience. \nMaria used to play bass and sing harmonies in the all original – indie rock band\, the mason district. her and band-mate\, tom tobias sometimes play as an acoustic duo at wineries\, bars & restaurants. \nMaria is interested in meeting people\, being creative\, building relationships & connections\, songwriting\, sharing her original music\, traveling\, being outdoors\, riding her bicycle\, playing pickleball\, and paddling around in her kayak in her free time.
URL:https://visitashtabulacounty.com/event/maria-petti-3/
LOCATION:Stable Winery\, 5961 State Route 7\, Andover\, OH\, 44003
CATEGORIES:Live Music
ATTACH;FMTTYPE=image/jpeg:https://visitashtabulacounty.com/wp-content/uploads/2025/02/maria-petti.jpg
END:VEVENT
BEGIN:VEVENT
DTSTART;TZID=America/New_York:20260404T173000
DTEND;TZID=America/New_York:20260404T203000
DTSTAMP:20260425T065121
CREATED:20260203T191042Z
LAST-MODIFIED:20260203T191042Z
UID:10015127-1775323800-1775334600@visitashtabulacounty.com
SUMMARY:MMAD (Melissa and Mitch Duo)
DESCRIPTION:Melissa & Mitch Acoustic Duo (MMAD) covers a wide variety of pop\, rock\, country\, & folk all eras!
URL:https://visitashtabulacounty.com/event/mmad-melissa-and-mitch-duo-5/
LOCATION:Stable Winery\, 5961 State Route 7\, Andover\, OH\, 44003
CATEGORIES:Live Music
ATTACH;FMTTYPE=image/jpeg:https://visitashtabulacounty.com/wp-content/uploads/2024/07/mmad2.jpg
END:VEVENT
BEGIN:VEVENT
DTSTART;TZID=America/New_York:20260328T173000
DTEND;TZID=America/New_York:20260328T203000
DTSTAMP:20260425T065121
CREATED:20250221T192206Z
LAST-MODIFIED:20260305T163440Z
UID:10009610-1774719000-1774729800@visitashtabulacounty.com
SUMMARY:Alicia Swartz Music
DESCRIPTION:Feel good music while she keeps you on your toes!
URL:https://visitashtabulacounty.com/event/alicia-swartz-music-7/
LOCATION:Stable Winery\, 5961 State Route 7\, Andover\, OH\, 44003
CATEGORIES:Live Music
ATTACH;FMTTYPE=image/jpeg:https://visitashtabulacounty.com/wp-content/uploads/2025/01/alicia-swartz-logo.jpg
END:VEVENT
END:VCALENDAR