BEGIN:VCALENDAR
VERSION:2.0
PRODID:-//Visit Ashtabula - ECPv6.14.0//NONSGML v1.0//EN
CALSCALE:GREGORIAN
METHOD:PUBLISH
X-WR-CALNAME:Visit Ashtabula
X-ORIGINAL-URL:https://visitashtabulacounty.com
X-WR-CALDESC:Events for Visit Ashtabula
REFRESH-INTERVAL;VALUE=DURATION:PT1H
X-Robots-Tag:noindex
X-PUBLISHED-TTL:PT1H
BEGIN:VTIMEZONE
TZID:America/New_York
BEGIN:DAYLIGHT
TZOFFSETFROM:-0500
TZOFFSETTO:-0400
TZNAME:EDT
DTSTART:20260308T070000
END:DAYLIGHT
BEGIN:STANDARD
TZOFFSETFROM:-0400
TZOFFSETTO:-0500
TZNAME:EST
DTSTART:20261101T060000
END:STANDARD
END:VTIMEZONE
BEGIN:VEVENT
DTSTART;TZID=America/New_York:20260918T173000
DTEND;TZID=America/New_York:20260918T203000
DTSTAMP:20260423T132657
CREATED:20260401T165800Z
LAST-MODIFIED:20260401T165800Z
UID:10016283-1789752600-1789763400@visitashtabulacounty.com
SUMMARY:Maria Petti
DESCRIPTION:Maria Petti is a full-time freelance musician\, born and raised in Northeast Ohio. She has had a passion for singing\, and music since a very young age. She is now an acoustic staple in the winery/bar scene in Northern Ohio\, having a repertoire of original songs\, and also a wide variety of music genres to play for her audience. \nMaria used to play bass and sing harmonies in the all original – indie rock band\, the mason district. her and band-mate\, tom tobias sometimes play as an acoustic duo at wineries\, bars & restaurants. \nMaria is interested in meeting people\, being creative\, building relationships & connections\, songwriting\, sharing her original music\, traveling\, being outdoors\, riding her bicycle\, playing pickleball\, and paddling around in her kayak in her free time.
URL:https://visitashtabulacounty.com/event/maria-petti-12/
LOCATION:Stable Winery\, 5961 State Route 7\, Andover\, OH\, 44003
CATEGORIES:Live Music
ATTACH;FMTTYPE=image/jpeg:https://visitashtabulacounty.com/wp-content/uploads/2025/02/maria-petti.jpg
END:VEVENT
BEGIN:VEVENT
DTSTART;TZID=America/New_York:20260822T173000
DTEND;TZID=America/New_York:20260822T203000
DTSTAMP:20260423T132657
CREATED:20260401T165904Z
LAST-MODIFIED:20260401T165904Z
UID:10016284-1787419800-1787430600@visitashtabulacounty.com
SUMMARY:Russ Saylor
DESCRIPTION:Solo artist Russ Saylor is a singer songwriter who specializes in playing your musical memories and requests from the 50’s\, 60’s\, 70’s and 80’s !Performing songs that will rewind the clock.
URL:https://visitashtabulacounty.com/event/russ-saylor-2/
LOCATION:Stable Winery\, 5961 State Route 7\, Andover\, OH\, 44003
CATEGORIES:Live Music
ATTACH;FMTTYPE=image/jpeg:https://visitashtabulacounty.com/wp-content/uploads/2024/10/russ-saylor.jpg
END:VEVENT
BEGIN:VEVENT
DTSTART;TZID=America/New_York:20260821T173000
DTEND;TZID=America/New_York:20260821T203000
DTSTAMP:20260423T132657
CREATED:20260401T170040Z
LAST-MODIFIED:20260401T170040Z
UID:10016285-1787333400-1787344200@visitashtabulacounty.com
SUMMARY:Jim Scott
DESCRIPTION:Jim Scott is known for his acoustic tunes!!
URL:https://visitashtabulacounty.com/event/jim-scott-2/
LOCATION:Stable Winery\, 5961 State Route 7\, Andover\, OH\, 44003
CATEGORIES:Live Music
ATTACH;FMTTYPE=image/jpeg:https://visitashtabulacounty.com/wp-content/uploads/2026/03/Jim-Scott-2.jpg
END:VEVENT
BEGIN:VEVENT
DTSTART;TZID=America/New_York:20260801T173000
DTEND;TZID=America/New_York:20260801T203000
DTSTAMP:20260423T132657
CREATED:20260401T170223Z
LAST-MODIFIED:20260401T170223Z
UID:10016286-1785605400-1785616200@visitashtabulacounty.com
SUMMARY:Pete Shelby
DESCRIPTION:Pete\, lead singer of BCB Acoustic\, takes the stage solo! Settle in and enjoy an evening of soulful sound—local talent doesn’t get any better than this.
URL:https://visitashtabulacounty.com/event/pete-shelby-2/
LOCATION:Stable Winery\, 5961 State Route 7\, Andover\, OH\, 44003
CATEGORIES:Live Music
ATTACH;FMTTYPE=image/jpeg:https://visitashtabulacounty.com/wp-content/uploads/2025/07/Pete-shelby.jpg
END:VEVENT
BEGIN:VEVENT
DTSTART;TZID=America/New_York:20260703T173000
DTEND;TZID=America/New_York:20260703T203000
DTSTAMP:20260423T132657
CREATED:20260401T170255Z
LAST-MODIFIED:20260401T170255Z
UID:10016287-1783099800-1783110600@visitashtabulacounty.com
SUMMARY:Ruby Hornsby
DESCRIPTION:Ruby Hornsby is a multi-instrumentalist and singer-songwriter known for her unique “Mountain Soul” sound\, blending Appalachian roots\, folk\, rock\, and blues. A seasoned touring artist\, she brings high-energy performances and a wide range of musical influences to stages across the region and beyond.
URL:https://visitashtabulacounty.com/event/ruby-hornsby-2/
LOCATION:Stable Winery\, 5961 State Route 7\, Andover\, OH\, 44003
CATEGORIES:Live Music
ATTACH;FMTTYPE=image/jpeg:https://visitashtabulacounty.com/wp-content/uploads/2025/11/ruby-mountain.jpg
END:VEVENT
BEGIN:VEVENT
DTSTART;TZID=America/New_York:20260718T173000
DTEND;TZID=America/New_York:20260718T203000
DTSTAMP:20260423T132657
CREATED:20260401T170341Z
LAST-MODIFIED:20260401T170341Z
UID:10016288-1784395800-1784406600@visitashtabulacounty.com
SUMMARY:Outside the Wall
DESCRIPTION:Get ready to rock because Outside the Wall — an incredible nod to the legendary Pink Floyd — is taking the stage and they are bringing the vibes!
URL:https://visitashtabulacounty.com/event/outside-the-wall-2/
LOCATION:Stable Winery\, 5961 State Route 7\, Andover\, OH\, 44003
CATEGORIES:Live Music
ATTACH;FMTTYPE=image/jpeg:https://visitashtabulacounty.com/wp-content/uploads/2024/10/outside-the-wall.jpg
END:VEVENT
BEGIN:VEVENT
DTSTART;TZID=America/New_York:20260725T173000
DTEND;TZID=America/New_York:20260725T203000
DTSTAMP:20260423T132657
CREATED:20260401T170655Z
LAST-MODIFIED:20260401T170655Z
UID:10016289-1785000600-1785011400@visitashtabulacounty.com
SUMMARY:Gary Pirrung
DESCRIPTION:
URL:https://visitashtabulacounty.com/event/gary-pirrung/
LOCATION:Stable Winery\, 5961 State Route 7\, Andover\, OH\, 44003
CATEGORIES:Live Music
ATTACH;FMTTYPE=image/jpeg:https://visitashtabulacounty.com/wp-content/uploads/2026/04/Gary-Pirrung.jpg
END:VEVENT
BEGIN:VEVENT
DTSTART;TZID=America/New_York:20260711T173000
DTEND;TZID=America/New_York:20260711T203000
DTSTAMP:20260423T132657
CREATED:20260401T170823Z
LAST-MODIFIED:20260401T170823Z
UID:10016290-1783791000-1783801800@visitashtabulacounty.com
SUMMARY:MMAD (Melissa and Mitch Duo)
DESCRIPTION:Melissa & Mitch Acoustic Duo (MMAD) covers a wide variety of pop\, rock\, country\, & folk all eras!
URL:https://visitashtabulacounty.com/event/mmad-melissa-and-mitch-duo-11/
LOCATION:Stable Winery\, 5961 State Route 7\, Andover\, OH\, 44003
CATEGORIES:Live Music
ATTACH;FMTTYPE=image/jpeg:https://visitashtabulacounty.com/wp-content/uploads/2024/07/mmad2.jpg
END:VEVENT
BEGIN:VEVENT
DTSTART;TZID=America/New_York:20260606T173000
DTEND;TZID=America/New_York:20260606T203000
DTSTAMP:20260423T132657
CREATED:20260401T171219Z
LAST-MODIFIED:20260401T171219Z
UID:10016291-1780767000-1780777800@visitashtabulacounty.com
SUMMARY:Gary Pirrung
DESCRIPTION:
URL:https://visitashtabulacounty.com/event/gary-pirrung-2/
LOCATION:Stable Winery\, 5961 State Route 7\, Andover\, OH\, 44003
CATEGORIES:Live Music
ATTACH;FMTTYPE=image/jpeg:https://visitashtabulacounty.com/wp-content/uploads/2026/04/Gary-Pirrung.jpg
END:VEVENT
BEGIN:VEVENT
DTSTART;TZID=America/New_York:20260612T170000
DTEND;TZID=America/New_York:20260612T200000
DTSTAMP:20260423T132657
CREATED:20260401T171901Z
LAST-MODIFIED:20260401T171901Z
UID:10016292-1781283600-1781294400@visitashtabulacounty.com
SUMMARY:Randall Brothers
DESCRIPTION:Andover\, OH — Friday night plans? Sorted! Join the Randall Brothers at Stable Winery on Friday\, June 12th from 5–8 PM for an evening of live music\, amazing wine\, and some of the best pizza in town.\nWe’ll be playing your favorite hits from the 60’s through the early 2000’s\, plus some originals — perfect for a relaxing night out with friends.\n Local wines & drinks Delicious pizza & other great menu items High-energy live music Requests welcome\nCome sip\, snack\, and sing along with us — let’s make Friday night unforgettable at Stable Winery!\n Stable Winery – Andover\, OH Friday\, June 12 5-8 PM
URL:https://visitashtabulacounty.com/event/randall-brothers/
LOCATION:Stable Winery\, 5961 State Route 7\, Andover\, OH\, 44003
CATEGORIES:Live Music
ATTACH;FMTTYPE=image/jpeg:https://visitashtabulacounty.com/wp-content/uploads/2026/04/Randall-Brothers.jpg
END:VEVENT
BEGIN:VEVENT
DTSTART;TZID=America/New_York:20261128T170000
DTEND;TZID=America/New_York:20261128T200000
DTSTAMP:20260423T132657
CREATED:20260401T172004Z
LAST-MODIFIED:20260401T172004Z
UID:10016293-1795885200-1795896000@visitashtabulacounty.com
SUMMARY:Randall Brothers
DESCRIPTION:Keep the holiday weekend going with the Randall Brothers at Stable Winery!\n Stable Winery Saturday\, November 28 5:00 PM – 8:00 PM\nAfter the turkey and Black Friday shopping\, come unwind with live music and all the good vibes. We’ll be playing your favorite hits from the 60’s through the early 2000’s — perfect for a cozy fall evening out.\nAnd let’s talk about the food & drinks  Incredible wine selection A great beer lineup Amazing pizza The BEST charcuterie tray around\nSeriously… come hungry.\nGrab your friends\, grab a drink\, and let’s make it a fun holiday weekend night! \nTag your crew and we’ll see you there!
URL:https://visitashtabulacounty.com/event/randall-brothers-2/
LOCATION:Stable Winery\, 5961 State Route 7\, Andover\, OH\, 44003
CATEGORIES:Live Music
ATTACH;FMTTYPE=image/jpeg:https://visitashtabulacounty.com/wp-content/uploads/2026/04/Randall-Brothers.jpg
END:VEVENT
BEGIN:VEVENT
DTSTART;TZID=America/New_York:20260502T173000
DTEND;TZID=America/New_York:20260502T203000
DTSTAMP:20260423T132657
CREATED:20260402T191904Z
LAST-MODIFIED:20260413T154512Z
UID:10016308-1777743000-1777753800@visitashtabulacounty.com
SUMMARY:Alicia Swartz Music
DESCRIPTION:Feel good music while she keeps you on your toes!
URL:https://visitashtabulacounty.com/event/alicia-swartz-music/
LOCATION:Stable Winery\, 5961 State Route 7\, Andover\, OH\, 44003
CATEGORIES:Live Music
ATTACH;FMTTYPE=image/jpeg:https://visitashtabulacounty.com/wp-content/uploads/2026/01/Alcia-Swartz.jpg
END:VEVENT
END:VCALENDAR