BEGIN:VCALENDAR
VERSION:2.0
PRODID:-//Visit Ashtabula - ECPv6.14.0//NONSGML v1.0//EN
CALSCALE:GREGORIAN
METHOD:PUBLISH
X-ORIGINAL-URL:https://visitashtabulacounty.com
X-WR-CALDESC:Events for Visit Ashtabula
REFRESH-INTERVAL;VALUE=DURATION:PT1H
X-Robots-Tag:noindex
X-PUBLISHED-TTL:PT1H
BEGIN:VTIMEZONE
TZID:America/New_York
BEGIN:DAYLIGHT
TZOFFSETFROM:-0500
TZOFFSETTO:-0400
TZNAME:EDT
DTSTART:20260308T070000
END:DAYLIGHT
BEGIN:STANDARD
TZOFFSETFROM:-0400
TZOFFSETTO:-0500
TZNAME:EST
DTSTART:20261101T060000
END:STANDARD
END:VTIMEZONE
BEGIN:VEVENT
DTSTART;TZID=America/New_York:20260606T090000
DTEND;TZID=America/New_York:20260606T120000
DTSTAMP:20260425T145249
CREATED:20260122T192545Z
LAST-MODIFIED:20260122T192545Z
UID:10014639-1780736400-1780747200@visitashtabulacounty.com
SUMMARY:Wine Run 5k
DESCRIPTION:Debonné Vineyards invites runners\, walkers\, and wine lovers alike to take part in this exciting annual Wine Run 5K set against the stunning scenery of the vineyard. The event is offering participants a scenic and unforgettable experience through one of Northeast Ohio’s most beloved wineries. \nKnown for its award-winning Riesling and Ice Wine\, as well as exceptional Cabernet Franc\, Chambourcin\, Chardonnay\, and Pinot Gris\, Debonné Vineyards provides the perfect backdrop for a morning of fitness and fun. Whether participants choose to run\, walk\, or simply enjoy the wine afterward\, this race promises a great time for all. \nThe 5K is chip-timed and professionally scored by J3 Timing\, with official results posted online at J3Timing.com. \nRegistration Includes:\n\n\nSuper-soft ring-spun cotton event T-shirt \n\n\nShatterproof\, collapsible\, portable wine glass \n\n\nFinisher medal that doubles as a wine stopper \n\n\nChip-timed race bib for the 5K run/walk \n\n\nResults posted online \n\n\nAnd of course… a pour of wine! \n\n\nThis unique event blends fitness\, fun\, and fantastic wine—making it a must-attend experience at Debonné Vineyards.
URL:https://visitashtabulacounty.com/event/wine-run-5k/
LOCATION:Debonne Vineyards\, 7840 Doty Rd\, Madison\, OH\, 44057\, United States
CATEGORIES:Outdoors
ATTACH;FMTTYPE=image/png:https://visitashtabulacounty.com/wp-content/uploads/2026/01/wine_run_800x800.png
END:VEVENT
BEGIN:VEVENT
DTSTART;TZID=America/New_York:20260527T183000
DTEND;TZID=America/New_York:20260527T213000
DTSTAMP:20260425T145249
CREATED:20260129T181918Z
LAST-MODIFIED:20260129T181918Z
UID:10014932-1779906600-1779917400@visitashtabulacounty.com
SUMMARY:Art Michaud
DESCRIPTION:A versatile and seasoned solo performer\, Art brings the hits to life with classic rock from the ’60s\, ’70s\, ’80s\, ’90s\, and 2000s\, along with country classics and new country favorites. His setlists feature music from James Taylor\, Jimmy Buffett\, Johnny Cash\, Tom Petty\, Tracy Lawrence\, Neil Young\, Bob Dylan\, The Beatles\, and more. \nWith a repertoire of over 1\,500 songs and the ability to travel nationwide—up to 3\,000 miles for bookings—Art Michaud is a dynamic entertainer ready for any occasion.
URL:https://visitashtabulacounty.com/event/art-michaud-13/
LOCATION:Debonne Vineyards\, 7840 Doty Rd\, Madison\, OH\, 44057\, United States
CATEGORIES:Live Music
ATTACH;FMTTYPE=image/jpeg:https://visitashtabulacounty.com/wp-content/uploads/2025/12/Art-Mic.jpg
END:VEVENT
BEGIN:VEVENT
DTSTART;TZID=America/New_York:20260621T143000
DTEND;TZID=America/New_York:20260621T173000
DTSTAMP:20260425T145249
CREATED:20260129T182557Z
LAST-MODIFIED:20260129T182557Z
UID:10014936-1782052200-1782063000@visitashtabulacounty.com
SUMMARY:Art Michaud
DESCRIPTION:A versatile and seasoned solo performer\, Art brings the hits to life with classic rock from the ’60s\, ’70s\, ’80s\, ’90s\, and 2000s\, along with country classics and new country favorites. His setlists feature music from James Taylor\, Jimmy Buffett\, Johnny Cash\, Tom Petty\, Tracy Lawrence\, Neil Young\, Bob Dylan\, The Beatles\, and more. \nWith a repertoire of over 1\,500 songs and the ability to travel nationwide—up to 3\,000 miles for bookings—Art Michaud is a dynamic entertainer ready for any occasion.
URL:https://visitashtabulacounty.com/event/art-michaud-17/
LOCATION:Debonne Vineyards\, 7840 Doty Rd\, Madison\, OH\, 44057\, United States
CATEGORIES:Live Music
ATTACH;FMTTYPE=image/jpeg:https://visitashtabulacounty.com/wp-content/uploads/2025/12/Art-Mic.jpg
END:VEVENT
BEGIN:VEVENT
DTSTART;TZID=America/New_York:20260729T183000
DTEND;TZID=America/New_York:20260729T213000
DTSTAMP:20260425T145249
CREATED:20260129T183404Z
LAST-MODIFIED:20260129T183404Z
UID:10014940-1785349800-1785360600@visitashtabulacounty.com
SUMMARY:Art Michaud
DESCRIPTION:A versatile and seasoned solo performer\, Art brings the hits to life with classic rock from the ’60s\, ’70s\, ’80s\, ’90s\, and 2000s\, along with country classics and new country favorites. His setlists feature music from James Taylor\, Jimmy Buffett\, Johnny Cash\, Tom Petty\, Tracy Lawrence\, Neil Young\, Bob Dylan\, The Beatles\, and more. \nWith a repertoire of over 1\,500 songs and the ability to travel nationwide—up to 3\,000 miles for bookings—Art Michaud is a dynamic entertainer ready for any occasion.
URL:https://visitashtabulacounty.com/event/art-michaud-21/
LOCATION:Debonne Vineyards\, 7840 Doty Rd\, Madison\, OH\, 44057\, United States
CATEGORIES:Live Music
ATTACH;FMTTYPE=image/jpeg:https://visitashtabulacounty.com/wp-content/uploads/2025/12/Art-Mic.jpg
END:VEVENT
BEGIN:VEVENT
DTSTART;TZID=America/New_York:20260920T143000
DTEND;TZID=America/New_York:20260920T173000
DTSTAMP:20260425T145249
CREATED:20260129T183658Z
LAST-MODIFIED:20260129T183658Z
UID:10014946-1789914600-1789925400@visitashtabulacounty.com
SUMMARY:Art Michaud
DESCRIPTION:A versatile and seasoned solo performer\, Art brings the hits to life with classic rock from the ’60s\, ’70s\, ’80s\, ’90s\, and 2000s\, along with country classics and new country favorites. His setlists feature music from James Taylor\, Jimmy Buffett\, Johnny Cash\, Tom Petty\, Tracy Lawrence\, Neil Young\, Bob Dylan\, The Beatles\, and more. \nWith a repertoire of over 1\,500 songs and the ability to travel nationwide—up to 3\,000 miles for bookings—Art Michaud is a dynamic entertainer ready for any occasion.
URL:https://visitashtabulacounty.com/event/art-michaud-27/
LOCATION:Debonne Vineyards\, 7840 Doty Rd\, Madison\, OH\, 44057\, United States
CATEGORIES:Live Music
ATTACH;FMTTYPE=image/jpeg:https://visitashtabulacounty.com/wp-content/uploads/2025/12/Art-Mic.jpg
END:VEVENT
BEGIN:VEVENT
DTSTART;TZID=America/New_York:20260523T153000
DTEND;TZID=America/New_York:20260523T193000
DTSTAMP:20260425T145249
CREATED:20260305T191628Z
LAST-MODIFIED:20260305T192222Z
UID:10015681-1779550200-1779564600@visitashtabulacounty.com
SUMMARY:The Legacy Band
DESCRIPTION:The Legacy Band from Northeast Ohio primarily performs dance music\, including Motown\, country\, and oldies from the 60s\, 70s\, and 80s.
URL:https://visitashtabulacounty.com/event/the-legacy-band-4/
LOCATION:Debonne Vineyards\, 7840 Doty Rd\, Madison\, OH\, 44057\, United States
CATEGORIES:Live Music
ATTACH;FMTTYPE=image/jpeg:https://visitashtabulacounty.com/wp-content/uploads/2024/06/Legacy-Band.jpg
END:VEVENT
BEGIN:VEVENT
DTSTART;TZID=America/New_York:20260627T153000
DTEND;TZID=America/New_York:20260627T193000
DTSTAMP:20260425T145249
CREATED:20260305T192312Z
LAST-MODIFIED:20260305T192312Z
UID:10015684-1782574200-1782588600@visitashtabulacounty.com
SUMMARY:The Legacy Band
DESCRIPTION:The Legacy Band from Northeast Ohio primarily performs dance music\, including Motown\, country\, and oldies from the 60s\, 70s\, and 80s.
URL:https://visitashtabulacounty.com/event/the-legacy-band-7/
LOCATION:Debonne Vineyards\, 7840 Doty Rd\, Madison\, OH\, 44057\, United States
CATEGORIES:Live Music
ATTACH;FMTTYPE=image/jpeg:https://visitashtabulacounty.com/wp-content/uploads/2024/06/Legacy-Band.jpg
END:VEVENT
BEGIN:VEVENT
DTSTART;TZID=America/New_York:20260731T183000
DTEND;TZID=America/New_York:20260731T223000
DTSTAMP:20260425T145249
CREATED:20260305T192408Z
LAST-MODIFIED:20260305T192408Z
UID:10015686-1785522600-1785537000@visitashtabulacounty.com
SUMMARY:The Legacy Band
DESCRIPTION:The Legacy Band from Northeast Ohio primarily performs dance music\, including Motown\, country\, and oldies from the 60s\, 70s\, and 80s.
URL:https://visitashtabulacounty.com/event/the-legacy-band-9/
LOCATION:Debonne Vineyards\, 7840 Doty Rd\, Madison\, OH\, 44057\, United States
CATEGORIES:Live Music
ATTACH;FMTTYPE=image/jpeg:https://visitashtabulacounty.com/wp-content/uploads/2024/06/Legacy-Band.jpg
END:VEVENT
BEGIN:VEVENT
DTSTART;TZID=America/New_York:20260815T153000
DTEND;TZID=America/New_York:20260815T193000
DTSTAMP:20260425T145249
CREATED:20260305T192539Z
LAST-MODIFIED:20260305T192539Z
UID:10015689-1786807800-1786822200@visitashtabulacounty.com
SUMMARY:The Legacy Band
DESCRIPTION:The Legacy Band from Northeast Ohio primarily performs dance music\, including Motown\, country\, and oldies from the 60s\, 70s\, and 80s.
URL:https://visitashtabulacounty.com/event/the-legacy-band-12/
LOCATION:Debonne Vineyards\, 7840 Doty Rd\, Madison\, OH\, 44057\, United States
CATEGORIES:Live Music
ATTACH;FMTTYPE=image/jpeg:https://visitashtabulacounty.com/wp-content/uploads/2024/06/Legacy-Band.jpg
END:VEVENT
BEGIN:VEVENT
DTSTART;TZID=America/New_York:20260503T143000
DTEND;TZID=America/New_York:20260503T173000
DTSTAMP:20260425T145249
CREATED:20260306T165155Z
LAST-MODIFIED:20260306T165155Z
UID:10015751-1777818600-1777829400@visitashtabulacounty.com
SUMMARY:Jimmy Mrozek
DESCRIPTION:Jimmy Mrozek is a singer-songwriter born and raised just outside of Cleveland\, Ohio. From performances on live TV to small intimate shows\, often times with his Dear Jimmy Band\, he has played on many stages to diverse crowds. Jimmy blends his “laid back” style and “unique voice” to produce songs that are heartfelt and charming. His shows mix original compositions with lots of cover songs by artists such as John Mayer\, Jack Johnson\, Coldplay\, Jason Mraz and Ed Sheeran (among others)
URL:https://visitashtabulacounty.com/event/jimmy-mrozek-8/
LOCATION:Debonne Vineyards\, 7840 Doty Rd\, Madison\, OH\, 44057\, United States
CATEGORIES:Live Music
ATTACH;FMTTYPE=image/jpeg:https://visitashtabulacounty.com/wp-content/uploads/2024/07/jimmy.jpg
END:VEVENT
BEGIN:VEVENT
DTSTART;TZID=America/New_York:20260509T153000
DTEND;TZID=America/New_York:20260509T193000
DTSTAMP:20260425T145249
CREATED:20260306T170846Z
LAST-MODIFIED:20260306T170846Z
UID:10015756-1778340600-1778355000@visitashtabulacounty.com
SUMMARY:Porch Rockers
DESCRIPTION:They are an OHIO Classic Rock dance band with a few fun surprises thrown in each gig (blues\, country\, sing-a-longs\, etc). They have a solo\, he’s “Just Andy”. They also have the A&P Duo; acoustic guitar and harmonica. It’s fun no matter which version you see.
URL:https://visitashtabulacounty.com/event/porch-rockers-5/
LOCATION:Debonne Vineyards\, 7840 Doty Rd\, Madison\, OH\, 44057\, United States
CATEGORIES:Live Music
ATTACH;FMTTYPE=image/jpeg:https://visitashtabulacounty.com/wp-content/uploads/2024/07/porch-rockers.jpg
END:VEVENT
BEGIN:VEVENT
DTSTART;TZID=America/New_York:20260426T143000
DTEND;TZID=America/New_York:20260426T173000
DTSTAMP:20260425T145249
CREATED:20260306T175244Z
LAST-MODIFIED:20260306T175244Z
UID:10015761-1777213800-1777224600@visitashtabulacounty.com
SUMMARY:Bob Potts Band
DESCRIPTION:Bob Potts Band is an acoustic musical duo recreating great music of the 60’s\, 70’s\, and beyond.
URL:https://visitashtabulacounty.com/event/bob-potts-band-9/
LOCATION:Debonne Vineyards\, 7840 Doty Rd\, Madison\, OH\, 44057\, United States
CATEGORIES:Live Music
ATTACH;FMTTYPE=image/jpeg:https://visitashtabulacounty.com/wp-content/uploads/2024/06/bob-potts-1.jpg
END:VEVENT
BEGIN:VEVENT
DTSTART;TZID=America/New_York:20260501T183000
DTEND;TZID=America/New_York:20260501T223000
DTSTAMP:20260425T145249
CREATED:20260306T175337Z
LAST-MODIFIED:20260306T175337Z
UID:10015762-1777660200-1777674600@visitashtabulacounty.com
SUMMARY:732 The Electric Duo
DESCRIPTION:The 732 Electric Duo delivers a full-band sound in a compact\, high-quality performance. Fronted by powerhouse vocalist and multi-instrumentalist Mary Spayd and supported by Glenn on bass\, vocals\, and keys\, their show blends mellow rock classics with dynamic instrumentation. Using customized\, high-end backing tracks—all created by Glenn—the duo recreates hits from artists like Fleetwood Mac\, Elton John\, Carole King\, The Eagles\, and Joni Mitchell\, offering an authentic\, ever-changing set list spanning the ’70s through the ’90s.
URL:https://visitashtabulacounty.com/event/732-the-electric-duo-3/
LOCATION:Debonne Vineyards\, 7840 Doty Rd\, Madison\, OH\, 44057\, United States
CATEGORIES:Live Music
ATTACH;FMTTYPE=image/jpeg:https://visitashtabulacounty.com/wp-content/uploads/2025/10/732.jpg
END:VEVENT
BEGIN:VEVENT
DTSTART;TZID=America/New_York:20260502T153000
DTEND;TZID=America/New_York:20260502T193000
DTSTAMP:20260425T145249
CREATED:20260306T175701Z
LAST-MODIFIED:20260306T175701Z
UID:10015763-1777735800-1777750200@visitashtabulacounty.com
SUMMARY:InCahootz
DESCRIPTION:InCahootz is an exceptional band that was formed in 2011. Members from Lewis & Swan and Sister Kate Group combined forces to create a unique and exciting musical venture. Their recognizable song list and performances are guaranteed crowd pleasers. Where and when space allows\, InCahootz features Freefall Horn Section creating a dynamic performance! \nInCahootz plays a wide variety of music from artists such as Pink\, Janis Joplin\, Chris Stapleton\, Linda Ronstadt CCR\, Lighthouse\, Van Morrison\, Bonnie Raitt\, Alannah Myles\, Jimmy Buffett\, Eagles\, Frankie Valli\, The Four Tops\, Sam Cooke\, Concrete Blonde\, 4 Non-Blondes\, Santana\, Fleetwood Mac\, Doobie Brothers\, and many\, many more! Visit their songs page for a sampling of their song list. \nMeet The Band:\n\nGreg Swan – lead guitar\, keyboards\, vocals\nCathy Murch – guitar\, keyboards\, bass\, vocals\nFred Murch – drums\, percussion\, vocals\nJeff Beam\, bass\, vocals\nRory Swift – guitar\, vocals
URL:https://visitashtabulacounty.com/event/incahootz/
LOCATION:Debonne Vineyards\, 7840 Doty Rd\, Madison\, OH\, 44057\, United States
CATEGORIES:Live Music
ATTACH;FMTTYPE=image/jpeg:https://visitashtabulacounty.com/wp-content/uploads/2026/03/inchootz.jpg
END:VEVENT
BEGIN:VEVENT
DTSTART;TZID=America/New_York:20260626T183000
DTEND;TZID=America/New_York:20260626T223000
DTSTAMP:20260425T145249
CREATED:20260306T175725Z
LAST-MODIFIED:20260306T175725Z
UID:10015764-1782498600-1782513000@visitashtabulacounty.com
SUMMARY:InCahootz
DESCRIPTION:InCahootz is an exceptional band that was formed in 2011. Members from Lewis & Swan and Sister Kate Group combined forces to create a unique and exciting musical venture. Their recognizable song list and performances are guaranteed crowd pleasers. Where and when space allows\, InCahootz features Freefall Horn Section creating a dynamic performance! \nInCahootz plays a wide variety of music from artists such as Pink\, Janis Joplin\, Chris Stapleton\, Linda Ronstadt CCR\, Lighthouse\, Van Morrison\, Bonnie Raitt\, Alannah Myles\, Jimmy Buffett\, Eagles\, Frankie Valli\, The Four Tops\, Sam Cooke\, Concrete Blonde\, 4 Non-Blondes\, Santana\, Fleetwood Mac\, Doobie Brothers\, and many\, many more! Visit their songs page for a sampling of their song list. \nMeet The Band:\n\nGreg Swan – lead guitar\, keyboards\, vocals\nCathy Murch – guitar\, keyboards\, bass\, vocals\nFred Murch – drums\, percussion\, vocals\nJeff Beam\, bass\, vocals\nRory Swift – guitar\, vocals
URL:https://visitashtabulacounty.com/event/incahootz-2/
LOCATION:Debonne Vineyards\, 7840 Doty Rd\, Madison\, OH\, 44057\, United States
CATEGORIES:Live Music
ATTACH;FMTTYPE=image/jpeg:https://visitashtabulacounty.com/wp-content/uploads/2026/03/inchootz.jpg
END:VEVENT
BEGIN:VEVENT
DTSTART;TZID=America/New_York:20260718T153000
DTEND;TZID=America/New_York:20260718T193000
DTSTAMP:20260425T145249
CREATED:20260306T175748Z
LAST-MODIFIED:20260306T175748Z
UID:10015765-1784388600-1784403000@visitashtabulacounty.com
SUMMARY:InCahootz
DESCRIPTION:InCahootz is an exceptional band that was formed in 2011. Members from Lewis & Swan and Sister Kate Group combined forces to create a unique and exciting musical venture. Their recognizable song list and performances are guaranteed crowd pleasers. Where and when space allows\, InCahootz features Freefall Horn Section creating a dynamic performance! \nInCahootz plays a wide variety of music from artists such as Pink\, Janis Joplin\, Chris Stapleton\, Linda Ronstadt CCR\, Lighthouse\, Van Morrison\, Bonnie Raitt\, Alannah Myles\, Jimmy Buffett\, Eagles\, Frankie Valli\, The Four Tops\, Sam Cooke\, Concrete Blonde\, 4 Non-Blondes\, Santana\, Fleetwood Mac\, Doobie Brothers\, and many\, many more! Visit their songs page for a sampling of their song list. \nMeet The Band:\n\nGreg Swan – lead guitar\, keyboards\, vocals\nCathy Murch – guitar\, keyboards\, bass\, vocals\nFred Murch – drums\, percussion\, vocals\nJeff Beam\, bass\, vocals\nRory Swift – guitar\, vocals
URL:https://visitashtabulacounty.com/event/incahootz-3/
LOCATION:Debonne Vineyards\, 7840 Doty Rd\, Madison\, OH\, 44057\, United States
CATEGORIES:Live Music
ATTACH;FMTTYPE=image/jpeg:https://visitashtabulacounty.com/wp-content/uploads/2026/03/inchootz.jpg
END:VEVENT
BEGIN:VEVENT
DTSTART;TZID=America/New_York:20260828T183000
DTEND;TZID=America/New_York:20260828T223000
DTSTAMP:20260425T145249
CREATED:20260306T175816Z
LAST-MODIFIED:20260306T175816Z
UID:10015766-1787941800-1787956200@visitashtabulacounty.com
SUMMARY:InCahootz
DESCRIPTION:InCahootz is an exceptional band that was formed in 2011. Members from Lewis & Swan and Sister Kate Group combined forces to create a unique and exciting musical venture. Their recognizable song list and performances are guaranteed crowd pleasers. Where and when space allows\, InCahootz features Freefall Horn Section creating a dynamic performance! \nInCahootz plays a wide variety of music from artists such as Pink\, Janis Joplin\, Chris Stapleton\, Linda Ronstadt CCR\, Lighthouse\, Van Morrison\, Bonnie Raitt\, Alannah Myles\, Jimmy Buffett\, Eagles\, Frankie Valli\, The Four Tops\, Sam Cooke\, Concrete Blonde\, 4 Non-Blondes\, Santana\, Fleetwood Mac\, Doobie Brothers\, and many\, many more! Visit their songs page for a sampling of their song list. \nMeet The Band:\n\nGreg Swan – lead guitar\, keyboards\, vocals\nCathy Murch – guitar\, keyboards\, bass\, vocals\nFred Murch – drums\, percussion\, vocals\nJeff Beam\, bass\, vocals\nRory Swift – guitar\, vocals
URL:https://visitashtabulacounty.com/event/incahootz-4/
LOCATION:Debonne Vineyards\, 7840 Doty Rd\, Madison\, OH\, 44057\, United States
CATEGORIES:Live Music
ATTACH;FMTTYPE=image/jpeg:https://visitashtabulacounty.com/wp-content/uploads/2026/03/inchootz.jpg
END:VEVENT
BEGIN:VEVENT
DTSTART;TZID=America/New_York:20260531T143000
DTEND;TZID=America/New_York:20260531T173000
DTSTAMP:20260425T145249
CREATED:20260306T185819Z
LAST-MODIFIED:20260306T185819Z
UID:10015770-1780237800-1780248600@visitashtabulacounty.com
SUMMARY:Murch n' Spice
DESCRIPTION:Murch’n Spice plays a wide variety of music from artists such as Pink\, Janis Joplin\, J.J. Cale\, Sly & The Family Stone\, Joni Mitchell\, Tedeschi Trucks Band\, Bonnie Tyler\, Suzanne Vega\, Van Morrison\, John Prine\, Patty Griffin\, Brandi Carlisle\, Gary Clarke Jr.\, Credence Clearwater Revival\, Concrete Blonde\, Keb’ Mo’\, 4 Non-Blondes\, Fleetwood Mac\, Melissa Etheridge\, Linda Ronstadt\, Poco\, The Five Stairsteps\, Sixpence None the Richer\, and many more!
URL:https://visitashtabulacounty.com/event/murch-n-spice-7/
LOCATION:Debonne Vineyards\, 7840 Doty Rd\, Madison\, OH\, 44057\, United States
CATEGORIES:Live Music
ATTACH;FMTTYPE=image/jpeg:https://visitashtabulacounty.com/wp-content/uploads/2024/10/Murch-nspice.jpg
END:VEVENT
BEGIN:VEVENT
DTSTART;TZID=America/New_York:20260809T140000
DTEND;TZID=America/New_York:20260809T170000
DTSTAMP:20260425T145249
CREATED:20260306T185910Z
LAST-MODIFIED:20260306T185910Z
UID:10015772-1786284000-1786294800@visitashtabulacounty.com
SUMMARY:Murch n' Spice
DESCRIPTION:Murch’n Spice plays a wide variety of music from artists such as Pink\, Janis Joplin\, J.J. Cale\, Sly & The Family Stone\, Joni Mitchell\, Tedeschi Trucks Band\, Bonnie Tyler\, Suzanne Vega\, Van Morrison\, John Prine\, Patty Griffin\, Brandi Carlisle\, Gary Clarke Jr.\, Credence Clearwater Revival\, Concrete Blonde\, Keb’ Mo’\, 4 Non-Blondes\, Fleetwood Mac\, Melissa Etheridge\, Linda Ronstadt\, Poco\, The Five Stairsteps\, Sixpence None the Richer\, and many more!
URL:https://visitashtabulacounty.com/event/murch-n-spice-9/
LOCATION:Debonne Vineyards\, 7840 Doty Rd\, Madison\, OH\, 44057\, United States
CATEGORIES:Live Music
ATTACH;FMTTYPE=image/jpeg:https://visitashtabulacounty.com/wp-content/uploads/2024/10/Murch-nspice.jpg
END:VEVENT
BEGIN:VEVENT
DTSTART;TZID=America/New_York:20260918T183000
DTEND;TZID=America/New_York:20260918T223000
DTSTAMP:20260425T145249
CREATED:20260306T185935Z
LAST-MODIFIED:20260306T185935Z
UID:10015773-1789756200-1789770600@visitashtabulacounty.com
SUMMARY:Murch n' Spice
DESCRIPTION:Murch’n Spice plays a wide variety of music from artists such as Pink\, Janis Joplin\, J.J. Cale\, Sly & The Family Stone\, Joni Mitchell\, Tedeschi Trucks Band\, Bonnie Tyler\, Suzanne Vega\, Van Morrison\, John Prine\, Patty Griffin\, Brandi Carlisle\, Gary Clarke Jr.\, Credence Clearwater Revival\, Concrete Blonde\, Keb’ Mo’\, 4 Non-Blondes\, Fleetwood Mac\, Melissa Etheridge\, Linda Ronstadt\, Poco\, The Five Stairsteps\, Sixpence None the Richer\, and many more!
URL:https://visitashtabulacounty.com/event/murch-n-spice-10/
LOCATION:Debonne Vineyards\, 7840 Doty Rd\, Madison\, OH\, 44057\, United States
CATEGORIES:Live Music
ATTACH;FMTTYPE=image/jpeg:https://visitashtabulacounty.com/wp-content/uploads/2024/10/Murch-nspice.jpg
END:VEVENT
BEGIN:VEVENT
DTSTART;TZID=America/New_York:20261030T183000
DTEND;TZID=America/New_York:20261030T223000
DTSTAMP:20260425T145249
CREATED:20260306T190121Z
LAST-MODIFIED:20260306T190121Z
UID:10015775-1793385000-1793399400@visitashtabulacounty.com
SUMMARY:Murch n' Spice
DESCRIPTION:Murch’n Spice plays a wide variety of music from artists such as Pink\, Janis Joplin\, J.J. Cale\, Sly & The Family Stone\, Joni Mitchell\, Tedeschi Trucks Band\, Bonnie Tyler\, Suzanne Vega\, Van Morrison\, John Prine\, Patty Griffin\, Brandi Carlisle\, Gary Clarke Jr.\, Credence Clearwater Revival\, Concrete Blonde\, Keb’ Mo’\, 4 Non-Blondes\, Fleetwood Mac\, Melissa Etheridge\, Linda Ronstadt\, Poco\, The Five Stairsteps\, Sixpence None the Richer\, and many more!
URL:https://visitashtabulacounty.com/event/murch-n-spice-12/
LOCATION:Debonne Vineyards\, 7840 Doty Rd\, Madison\, OH\, 44057\, United States
CATEGORIES:Live Music
ATTACH;FMTTYPE=image/jpeg:https://visitashtabulacounty.com/wp-content/uploads/2024/10/Murch-nspice.jpg
END:VEVENT
BEGIN:VEVENT
DTSTART;TZID=America/New_York:20260506T183000
DTEND;TZID=America/New_York:20260506T210000
DTSTAMP:20260425T145249
CREATED:20260306T190159Z
LAST-MODIFIED:20260306T190159Z
UID:10015776-1778092200-1778101200@visitashtabulacounty.com
SUMMARY:Brian Alan Hager Band
DESCRIPTION: His set will feature pop and alternative rock covers\, along with original songs\, all delivered in a bluesy\, jazzy style. Expect unique takes on well-known favorites with plenty of guitar improvisation throughout the night.
URL:https://visitashtabulacounty.com/event/brian-alan-hager-band-3/
LOCATION:Debonne Vineyards\, 7840 Doty Rd\, Madison\, OH\, 44057\, United States
CATEGORIES:Dine and Drink,Live Music
ATTACH;FMTTYPE=image/jpeg:https://visitashtabulacounty.com/wp-content/uploads/2025/06/brian-alan-hager-band.jpg
END:VEVENT
BEGIN:VEVENT
DTSTART;TZID=America/New_York:20260510T143000
DTEND;TZID=America/New_York:20260510T173000
DTSTAMP:20260425T145249
CREATED:20260306T191604Z
LAST-MODIFIED:20260306T191604Z
UID:10015777-1778423400-1778434200@visitashtabulacounty.com
SUMMARY:Duo-ly Noted
DESCRIPTION:Acoustic duo with variety of popular songs.
URL:https://visitashtabulacounty.com/event/duo-ly-noted-2/
LOCATION:Debonne Vineyards\, 7840 Doty Rd\, Madison\, OH\, 44057\, United States
CATEGORIES:Live Music
ATTACH;FMTTYPE=image/jpeg:https://visitashtabulacounty.com/wp-content/uploads/2024/12/duoly-noted.jpg
END:VEVENT
BEGIN:VEVENT
DTSTART;TZID=America/New_York:20260513T183000
DTEND;TZID=America/New_York:20260513T213000
DTSTAMP:20260425T145249
CREATED:20260306T191649Z
LAST-MODIFIED:20260306T191649Z
UID:10015778-1778697000-1778707800@visitashtabulacounty.com
SUMMARY:Marcc Nutter
DESCRIPTION:Marcc Nutter’s 35-year tenure in the music industry has earned him international recognition. His extensive touring experience includes sharing the stage with esteemed artists Randy Travis\, George Jones\, Travis Tritt\, and The Highwaymen. Marcc’s distinctive vocals\, impressive range\, and masterful guitar work have captivated audiences worldwide
URL:https://visitashtabulacounty.com/event/marcc-nutter-3/
LOCATION:Debonne Vineyards\, 7840 Doty Rd\, Madison\, OH\, 44057\, United States
CATEGORIES:Live Music
ATTACH;FMTTYPE=image/jpeg:https://visitashtabulacounty.com/wp-content/uploads/2025/10/mark-nutter.jpg
END:VEVENT
BEGIN:VEVENT
DTSTART;TZID=America/New_York:20260515T183000
DTEND;TZID=America/New_York:20260515T223000
DTSTAMP:20260425T145249
CREATED:20260306T191722Z
LAST-MODIFIED:20260306T191722Z
UID:10015779-1778869800-1778884200@visitashtabulacounty.com
SUMMARY:The Gunnz
DESCRIPTION:The Gunnz deliver a rockin’ good time!
URL:https://visitashtabulacounty.com/event/the-gunnz-2/
LOCATION:Debonne Vineyards\, 7840 Doty Rd\, Madison\, OH\, 44057\, United States
CATEGORIES:Live Music
ATTACH;FMTTYPE=image/jpeg:https://visitashtabulacounty.com/wp-content/uploads/2026/03/The-Gunnz.jpg
END:VEVENT
BEGIN:VEVENT
DTSTART;TZID=America/New_York:20260516T153000
DTEND;TZID=America/New_York:20260516T193000
DTSTAMP:20260425T145249
CREATED:20260306T192014Z
LAST-MODIFIED:20260306T192014Z
UID:10015780-1778945400-1778959800@visitashtabulacounty.com
SUMMARY:Uncharted Course
DESCRIPTION:This music duo of Kate Marvenko and Ed Parady will take you on an ‘uncharted course’ through the 60’s\, 70’s and beyond.  Chances are\, you’ll recognize most of the songs\, so feel free to sing along or just sit back and relax as they provide the soundtrack to a wonderful evening!
URL:https://visitashtabulacounty.com/event/uncharted-course-4/
LOCATION:Debonne Vineyards\, 7840 Doty Rd\, Madison\, OH\, 44057\, United States
CATEGORIES:Live Music
ATTACH;FMTTYPE=image/jpeg:https://visitashtabulacounty.com/wp-content/uploads/2024/04/uncharted.jpg
END:VEVENT
BEGIN:VEVENT
DTSTART;TZID=America/New_York:20260517T143000
DTEND;TZID=America/New_York:20260517T173000
DTSTAMP:20260425T145249
CREATED:20260306T192240Z
LAST-MODIFIED:20260306T192240Z
UID:10015781-1779028200-1779039000@visitashtabulacounty.com
SUMMARY:Tommy Hook - 1 Man Band
DESCRIPTION:Tommy Hook records all of his music in his home studio\, where he plays and produces every track himself. During performances\, he plays lead guitar and sings the vocals live along with his recordings. Tommy’s high-energy style features danceable music\, so audiences can expect to get up and move. His setlist includes Classic Rock and Southern Rock with a dash of Blues\, Country Rock\, and Beach Music\, creating a fun and lively atmosphere for any crowd. 🎸💃
URL:https://visitashtabulacounty.com/event/tommy-hook-1-man-band/
LOCATION:Debonne Vineyards\, 7840 Doty Rd\, Madison\, OH\, 44057\, United States
CATEGORIES:Live Music
ATTACH;FMTTYPE=image/jpeg:https://visitashtabulacounty.com/wp-content/uploads/2026/03/Tommy-Hook-2.jpg
END:VEVENT
BEGIN:VEVENT
DTSTART;TZID=America/New_York:20260523T153000
DTEND;TZID=America/New_York:20260523T193000
DTSTAMP:20260425T145249
CREATED:20260306T192404Z
LAST-MODIFIED:20260306T192404Z
UID:10015782-1779550200-1779564600@visitashtabulacounty.com
SUMMARY:Wicked Vinyl
DESCRIPTION:Wicked Vinyl is a local band playing a wide variety of music from the 50s\, 60s\, 70s and 80s!
URL:https://visitashtabulacounty.com/event/wicked-vinyl/
LOCATION:Debonne Vineyards\, 7840 Doty Rd\, Madison\, OH\, 44057\, United States
CATEGORIES:Live Music
ATTACH;FMTTYPE=image/jpeg:https://visitashtabulacounty.com/wp-content/uploads/2024/06/wicked-vinyl.jpg
END:VEVENT
END:VCALENDAR